BEGIN:VCALENDAR
VERSION:2.0
PRODID:-//Geethanjali
CALSCALE:GREGORIAN
METHOD:PUBLISH
X-WR-CALNAME:Geethanjali
X-ORIGINAL-URL:https://gist.edu.in/gist/event/introduction-to-game-development/
X-WR-CALDESC:Indian Game Development Challenge
BEGIN:VEVENT
DTSTART:
DTEND:
SUMMARY:Indian Game Development Challenge
DESCRIPTION:Three Day Workshop on  Indian Game Development Challenge

LOCATION:
END:VEVENT
END:VCALENDAR
