BEGIN:VCALENDAR
VERSION:2.0
PRODID:-//Geethanjali
CALSCALE:GREGORIAN
METHOD:PUBLISH
X-WR-CALNAME:Geethanjali
X-ORIGINAL-URL:https://gist.edu.in/gist/event/guest-lecture-on-machine-learning-deep-learning/
X-WR-CALDESC:GUEST LECTURE ON MACHINE LEARNING &#038; DEEP LEARNING
BEGIN:VEVENT
DTSTART:
DTEND:
SUMMARY:GUEST LECTURE ON MACHINE LEARNING &#038; DEEP LEARNING
DESCRIPTION:GUEST LECTURE ON MACHINE LEARNING & DEEP LEARNING Organized on 24-10-2018
LOCATION:
END:VEVENT
END:VCALENDAR
