BEGIN:VCALENDAR
VERSION:2.0
PRODID:-//Geethanjali
CALSCALE:GREGORIAN
METHOD:PUBLISH
X-WR-CALNAME:Geethanjali
X-ORIGINAL-URL:https://gist.edu.in/gist/event/icatcsit-18/
X-WR-CALDESC:ICATCSIT-18
BEGIN:VEVENT
DTSTART:
DTEND:
SUMMARY:ICATCSIT-18
DESCRIPTION:International Conference on Advanced Trends in Computer Science & Information Technology
LOCATION:
END:VEVENT
END:VCALENDAR
