BEGIN:VCALENDAR
VERSION:2.0
PRODID:-//Geethanjali
CALSCALE:GREGORIAN
METHOD:PUBLISH
X-WR-CALNAME:Geethanjali
X-ORIGINAL-URL:https://gist.edu.in/gist/event/workshop-on-mathematical-operations-with-scilab/
X-WR-CALDESC:Workshop on Mathematical operations with Scilab
BEGIN:VEVENT
DTSTART:
DTEND:
SUMMARY:Workshop on Mathematical operations with Scilab
DESCRIPTION:A Three Day Hands On Workshop on Mathematical operations with scilab

LOCATION:
END:VEVENT
END:VCALENDAR
