BEGIN:VCALENDAR
VERSION:2.0
PRODID:-//Geethanjali
CALSCALE:GREGORIAN
METHOD:PUBLISH
X-WR-CALNAME:Geethanjali
X-ORIGINAL-URL:https://gist.edu.in/gist/event/one-day-industrial-visit-to-consensus/
X-WR-CALDESC:ONE DAY INDUSTRIAL VISIT TO CONSENSUS
BEGIN:VEVENT
DTSTART:
DTEND:
SUMMARY:ONE DAY INDUSTRIAL VISIT TO CONSENSUS
DESCRIPTION:ONE DAY INDUSTRIAL VISIT TO CONSENSUS
LOCATION:
END:VEVENT
END:VCALENDAR
