BEGIN:VCALENDAR
VERSION:2.0
PRODID:-//Geethanjali
CALSCALE:GREGORIAN
METHOD:PUBLISH
X-WR-CALNAME:Geethanjali
X-ORIGINAL-URL:https://gist.edu.in/gist/event/workshop-on-aws-technical-essential/
X-WR-CALDESC:workshop on AWS Technical Essential
BEGIN:VEVENT
DTSTART:
DTEND:
SUMMARY:workshop on AWS Technical Essential
DESCRIPTION:Two Day workshop on AWS Technical Essential organized at GIST
LOCATION:
END:VEVENT
END:VCALENDAR
