BEGIN:VCALENDAR
VERSION:2.0
PRODID:-//Geethanjali
CALSCALE:GREGORIAN
METHOD:PUBLISH
X-WR-CALNAME:Geethanjali
X-ORIGINAL-URL:https://gist.edu.in/gist/event/8736/
X-WR-CALDESC:one week FDP on Hadoop
BEGIN:VEVENT
DTSTART:
DTEND:
SUMMARY:one week FDP on Hadoop
DESCRIPTION:Faculty Development Programme on  Hadoop
LOCATION:
END:VEVENT
END:VCALENDAR
