BEGIN:VCALENDAR
VERSION:2.0
PRODID:-//Geethanjali
CALSCALE:GREGORIAN
METHOD:PUBLISH
X-WR-CALNAME:Geethanjali
X-ORIGINAL-URL:https://gist.edu.in/gist/event/python-certification-course/
X-WR-CALDESC:PYTHON CERTIFICATION COURSE
BEGIN:VEVENT
DTSTART:
DTEND:
SUMMARY:PYTHON CERTIFICATION COURSE
DESCRIPTION:APSSDC PYTHON CERTIFICATION COURSE AT GIST
LOCATION:
END:VEVENT
END:VCALENDAR
