BEGIN:VCALENDAR
VERSION:2.0
PRODID:-//Geethanjali
CALSCALE:GREGORIAN
METHOD:PUBLISH
X-WR-CALNAME:Geethanjali
X-ORIGINAL-URL:https://gist.edu.in/gist/event/orientation-day-at-gist-for-i-year-b-tech-students/
X-WR-CALDESC:ORIENTATION DAY AT GIST FOR I YEAR B.TECH STUDENTS
BEGIN:VEVENT
DTSTART:
DTEND:
SUMMARY:ORIENTATION DAY AT GIST FOR I YEAR B.TECH STUDENTS
DESCRIPTION:ORIENTATION DAY ORGANIZED AT GIST ON A GRAND SCALE
LOCATION:
END:VEVENT
END:VCALENDAR
