BEGIN:VCALENDAR
VERSION:2.0
PRODID:-//Geethanjali
CALSCALE:GREGORIAN
METHOD:PUBLISH
X-WR-CALNAME:Geethanjali
X-ORIGINAL-URL:https://gist.edu.in/gist/event/icatcsit-2018/
X-WR-CALDESC:ICATCSIT-2018
BEGIN:VEVENT
DTSTART:
DTEND:
SUMMARY:ICATCSIT-2018
DESCRIPTION:ICATCSIT-2018 @ GIST Campus
LOCATION:
END:VEVENT
END:VCALENDAR
