BEGIN:VCALENDAR
VERSION:2.0
PRODID:-//Geethanjali
CALSCALE:GREGORIAN
METHOD:PUBLISH
X-WR-CALNAME:Geethanjali
X-ORIGINAL-URL:https://gist.edu.in/gist/event/cms-skill-excellence-center/
X-WR-CALDESC:CM&#8217;s SKILL EXCELLENCE CENTER
BEGIN:VEVENT
DTSTART:
DTEND:
SUMMARY:CM&#8217;s SKILL EXCELLENCE CENTER
DESCRIPTION:CM's SKILL EXCELLENCE CENTER
LOCATION:
END:VEVENT
END:VCALENDAR
