BEGIN:VCALENDAR
VERSION:2.0
PRODID:-//Geethanjali
CALSCALE:GREGORIAN
METHOD:PUBLISH
X-WR-CALNAME:Geethanjali
X-ORIGINAL-URL:https://gist.edu.in/gist/event/wipro-bscbca-2018-batch-pool-campus-drive/
X-WR-CALDESC:WIPRO BSC/BCA 2018 BATCH POOL CAMPUS DRIVE
BEGIN:VEVENT
DTSTART:
DTEND:
SUMMARY:WIPRO BSC/BCA 2018 BATCH POOL CAMPUS DRIVE
DESCRIPTION:Wipro 2018 Batch Pool Campus Drive for Degree BSC/BCA Students at GIST
LOCATION:
END:VEVENT
END:VCALENDAR
