BEGIN:VCALENDAR
VERSION:2.0
PRODID:-//Geethanjali
CALSCALE:GREGORIAN
METHOD:PUBLISH
X-WR-CALNAME:Geethanjali
X-ORIGINAL-URL:https://gist.edu.in/gist/event/paper-presentations/
X-WR-CALDESC:Paper Presentations
BEGIN:VEVENT
DTSTART:
DTEND:
SUMMARY:Paper Presentations
DESCRIPTION:Paper Presentations @ GIST on 23-03-2018 & 24-03-2018
LOCATION:
END:VEVENT
END:VCALENDAR
