BEGIN:VCALENDAR
VERSION:2.0
PRODID:-//Geethanjali
CALSCALE:GREGORIAN
METHOD:PUBLISH
X-WR-CALNAME:Geethanjali
X-ORIGINAL-URL:https://gist.edu.in/gist/event/c-debugging-2/
X-WR-CALDESC:C-Debugging
BEGIN:VEVENT
DTSTART:
DTEND:
SUMMARY:C-Debugging
DESCRIPTION:<b>C-DEBUGGING Contest at GIST on 23-03-2018 & 24-03-2018</b>
LOCATION:
END:VEVENT
END:VCALENDAR
