BEGIN:VCALENDAR
VERSION:2.0
PRODID:-//Geethanjali
CALSCALE:GREGORIAN
METHOD:PUBLISH
X-WR-CALNAME:Geethanjali
X-ORIGINAL-URL:https://gist.edu.in/gist/event/srujana-2k18-2/
X-WR-CALDESC:Srujana 2K18
BEGIN:VEVENT
DTSTART:
DTEND:
SUMMARY:Srujana 2K18
DESCRIPTION:Srujana 2K18 on 13<sup>th</sup> April,2018 at GIST
LOCATION:
END:VEVENT
END:VCALENDAR
