BEGIN:VCALENDAR
VERSION:2.0
PRODID:-//Geethanjali
CALSCALE:GREGORIAN
METHOD:PUBLISH
X-WR-CALNAME:Geethanjali
X-ORIGINAL-URL:https://gist.edu.in/gist/event/two-day-faculty-development-program-on-introduction-to-r-programming/
X-WR-CALDESC:Two-Day Faculty Development Program on Introduction to R Programming
BEGIN:VEVENT
DTSTART:
DTEND:
SUMMARY:Two-Day Faculty Development Program on Introduction to R Programming
DESCRIPTION:Two-Day Faculty Development Program on Introduction to R Programming on 6<sup>th</sup> and 7<sup>th</sup> April,2018
LOCATION:
END:VEVENT
END:VCALENDAR
