BEGIN:VCALENDAR
VERSION:2.0
PRODID:-//Geethanjali
CALSCALE:GREGORIAN
METHOD:PUBLISH
X-WR-CALNAME:Geethanjali
X-ORIGINAL-URL:https://gist.edu.in/gist/event/iucee-virtual-academy-webinars/
X-WR-CALDESC:IUCEE Virtual Academy Webinars
BEGIN:VEVENT
DTSTART:
DTEND:
SUMMARY:IUCEE Virtual Academy Webinars
DESCRIPTION:<b>IUCEE Virtual Academy Webinars held on March 6<sup>th</sup>, 7<sup>th</sup>, 8<sup>th</sup>,2018</b>

LOCATION:
END:VEVENT
END:VCALENDAR
