BEGIN:VCALENDAR
VERSION:2.0
PRODID:-//Geethanjali
CALSCALE:GREGORIAN
METHOD:PUBLISH
X-WR-CALNAME:Geethanjali
X-ORIGINAL-URL:https://gist.edu.in/gist/event/a-three-day-workshop-on-google-android-developer-fundamental-workshop/
X-WR-CALDESC:A THREE DAY WORKSHOP ON GOOGLE ANDROID DEVELOPER FUNDAMENTAL WORKSHOP
BEGIN:VEVENT
DTSTART:
DTEND:
SUMMARY:A THREE DAY WORKSHOP ON GOOGLE ANDROID DEVELOPER FUNDAMENTAL WORKSHOP
DESCRIPTION:GOOGLE ANDROID DEVELOPER FUNDAMENTAL WORKSHOP-(PHASE-II) at GIST
LOCATION:
END:VEVENT
END:VCALENDAR
