BEGIN:VCALENDAR
VERSION:2.0
PRODID:-//Geethanjali
CALSCALE:GREGORIAN
METHOD:PUBLISH
X-WR-CALNAME:Geethanjali
X-ORIGINAL-URL:https://gist.edu.in/gist/event/srujana-2k18/
X-WR-CALDESC:SRUJANA 2K18
BEGIN:VEVENT
DTSTART:
DTEND:
SUMMARY:SRUJANA 2K18
DESCRIPTION:SRUJANA 2K18
LOCATION:
END:VEVENT
END:VCALENDAR
