BEGIN:VCALENDAR
VERSION:2.0
PRODID:-//Geethanjali
CALSCALE:GREGORIAN
METHOD:PUBLISH
X-WR-CALNAME:Geethanjali
X-ORIGINAL-URL:https://gist.edu.in/gist/event/industrial-visit-to-mobile-programming-india-pvt-ltd/
X-WR-CALDESC:Industrial Visit to Mobile Programming India Pvt. Ltd.
BEGIN:VEVENT
DTSTART:
DTEND:
SUMMARY:Industrial Visit to Mobile Programming India Pvt. Ltd.
DESCRIPTION:Industrial Visit to Mobile Programming India Pvt. Ltd. for <br/>
4 <sup>th</sup> Year CSE Students
LOCATION:
END:VEVENT
END:VCALENDAR
