BEGIN:VCALENDAR
VERSION:2.0
PRODID:-//Geethanjali
CALSCALE:GREGORIAN
METHOD:PUBLISH
X-WR-CALNAME:Geethanjali
X-ORIGINAL-URL:https://gist.edu.in/gist/event/annual-college-day-celebrations-2018/
X-WR-CALDESC:Annual College Day Celebrations &#8211; 2018
BEGIN:VEVENT
DTSTART:
DTEND:
SUMMARY:Annual College Day Celebrations &#8211; 2018
DESCRIPTION:9<sup>th</sup> Annual College Day Celebrations - 2018
LOCATION:
END:VEVENT
END:VCALENDAR
