BEGIN:VCALENDAR
VERSION:2.0
PRODID:-//Geethanjali
CALSCALE:GREGORIAN
METHOD:PUBLISH
X-WR-CALNAME:Geethanjali
X-ORIGINAL-URL:https://gist.edu.in/gist/event/gist-organized-the-live-telecast-address-by-pm/
X-WR-CALDESC:GIST ORGANIZED THE LIVE TELECAST ADDRESS BY PM
BEGIN:VEVENT
DTSTART:
DTEND:
SUMMARY:GIST ORGANIZED THE LIVE TELECAST ADDRESS BY PM
DESCRIPTION:GIST ORGANIZED THE LIVE TELECAST ADDRESS BY PM
LOCATION:
END:VEVENT
END:VCALENDAR
