BEGIN:VCALENDAR
VERSION:2.0
PRODID:-//Geethanjali
CALSCALE:GREGORIAN
METHOD:PUBLISH
X-WR-CALNAME:Geethanjali
X-ORIGINAL-URL:https://gist.edu.in/gist/event/8232/
X-WR-CALDESC:GIST Students shine in Intellect Design an association of the software major Polaris
BEGIN:VEVENT
DTSTART:
DTEND:
SUMMARY:GIST Students shine in Intellect Design an association of the software major Polaris
DESCRIPTION:GIST STUDENTS SHINE IN POLARIS INNOVATIVE IDEAS CONTEST
LOCATION:
END:VEVENT
END:VCALENDAR
