BEGIN:VCALENDAR
VERSION:2.0
PRODID:-//Geethanjali
CALSCALE:GREGORIAN
METHOD:PUBLISH
X-WR-CALNAME:Geethanjali
X-ORIGINAL-URL:https://gist.edu.in/gist/event/industrial-visit-to-intellect-design-arena-ltd/
X-WR-CALDESC:INDUSTRIAL VISIT TO INTELLECT DESIGN ARENA LTD.
BEGIN:VEVENT
DTSTART:
DTEND:
SUMMARY:INDUSTRIAL VISIT TO INTELLECT DESIGN ARENA LTD.
DESCRIPTION:INDUSTRIAL VISIT TO INTELLECT DESIGN ARENA LTD., Chennai, for III B. Tech Students on 6th JAN 2018
LOCATION:
END:VEVENT
END:VCALENDAR
