BEGIN:VCALENDAR
VERSION:2.0
PRODID:-//Geethanjali
CALSCALE:GREGORIAN
METHOD:PUBLISH
X-WR-CALNAME:Geethanjali
X-ORIGINAL-URL:https://gist.edu.in/gist/event/one-day-industrial-visit-to-intellect/
X-WR-CALDESC:ONE DAY INDUSTRIAL VISIT TO INTELLECT
BEGIN:VEVENT
DTSTART:
DTEND:
SUMMARY:ONE DAY INDUSTRIAL VISIT TO INTELLECT
DESCRIPTION:ONE DAY INDUSTRIAL VISIT TO INTELLECT
(Polaris group firm)
LOCATION:
END:VEVENT
END:VCALENDAR
