BEGIN:VCALENDAR
VERSION:2.0
PRODID:-//Geethanjali
CALSCALE:GREGORIAN
METHOD:PUBLISH
X-WR-CALNAME:Geethanjali
X-ORIGINAL-URL:https://gist.edu.in/gist/event/parents-meet/
X-WR-CALDESC:Parent&#8217;s Meet
BEGIN:VEVENT
DTSTART:
DTEND:
SUMMARY:Parent&#8217;s Meet
DESCRIPTION:Parents Meeting held on  12<sup>th</sup> November, 2017
LOCATION:
END:VEVENT
END:VCALENDAR
