BEGIN:VCALENDAR
VERSION:2.0
PRODID:-//Geethanjali
CALSCALE:GREGORIAN
METHOD:PUBLISH
X-WR-CALNAME:Geethanjali
X-ORIGINAL-URL:https://gist.edu.in/gist/event/nmeict-workshop-on-machine-learning/
X-WR-CALDESC:NMEICT Workshop on Machine Learning
BEGIN:VEVENT
DTSTART:
DTEND:
SUMMARY:NMEICT Workshop on Machine Learning
DESCRIPTION:Machine Learning Workshop by IIT Kharagpur
LOCATION:
END:VEVENT
END:VCALENDAR
