BEGIN:VCALENDAR
VERSION:2.0
PRODID:-//Geethanjali
CALSCALE:GREGORIAN
METHOD:PUBLISH
X-WR-CALNAME:Geethanjali
X-ORIGINAL-URL:https://gist.edu.in/gist/event/parents-meet-2017/
X-WR-CALDESC:Parents Meet-2017
BEGIN:VEVENT
DTSTART:
DTEND:
SUMMARY:Parents Meet-2017
DESCRIPTION:Parents Meet-2017
LOCATION:
END:VEVENT
END:VCALENDAR
