BEGIN:VCALENDAR
VERSION:2.0
PRODID:-//Geethanjali
CALSCALE:GREGORIAN
METHOD:PUBLISH
X-WR-CALNAME:Geethanjali
X-ORIGINAL-URL:https://gist.edu.in/gist/event/freshers-day-celebrations/
X-WR-CALDESC:FRESHER&#8217;S DAY CELEBRATIONS
BEGIN:VEVENT
DTSTART:
DTEND:
SUMMARY:FRESHER&#8217;S DAY CELEBRATIONS
DESCRIPTION:FRESHER'S DAY CELEBRATIONS-2017
LOCATION:
END:VEVENT
END:VCALENDAR
