BEGIN:VCALENDAR
VERSION:2.0
PRODID:-//Geethanjali
CALSCALE:GREGORIAN
METHOD:PUBLISH
X-WR-CALNAME:Geethanjali
X-ORIGINAL-URL:https://gist.edu.in/gist/event/world-space-week-celebrations-2017/
X-WR-CALDESC:World Space Week Celebrations-2017
BEGIN:VEVENT
DTSTART:
DTEND:
SUMMARY:World Space Week Celebrations-2017
DESCRIPTION:World Space Week Celebrations-2017 at GIST
LOCATION:
END:VEVENT
END:VCALENDAR
