BEGIN:VCALENDAR
VERSION:2.0
PRODID:-//Geethanjali
CALSCALE:GREGORIAN
METHOD:PUBLISH
X-WR-CALNAME:Geethanjali
X-ORIGINAL-URL:https://gist.edu.in/gist/event/pmkvy-program/
X-WR-CALDESC:PMKVY Program
BEGIN:VEVENT
DTSTART:
DTEND:
SUMMARY:PMKVY Program
DESCRIPTION:<h3>Pradhan Mantri Kaushal Vikas Yojana</h3>
<h5>Free Training & Employment under a Joint Initiative</h5>
LOCATION:
END:VEVENT
END:VCALENDAR
