BEGIN:VCALENDAR
VERSION:2.0
PRODID:-//Geethanjali
CALSCALE:GREGORIAN
METHOD:PUBLISH
X-WR-CALNAME:Geethanjali
X-ORIGINAL-URL:https://gist.edu.in/gist/event/charity-program-on-oct-2nd/
X-WR-CALDESC:Charity Program on OCT 2<sup>nd</sup>,2017
BEGIN:VEVENT
DTSTART:
DTEND:
SUMMARY:Charity Program on OCT 2<sup>nd</sup>,2017
DESCRIPTION:Oct 2<sup>nd</sup> Charity Program
LOCATION:
END:VEVENT
END:VCALENDAR
