BEGIN:VCALENDAR
VERSION:2.0
PRODID:-//Geethanjali
CALSCALE:GREGORIAN
METHOD:PUBLISH
X-WR-CALNAME:Geethanjali
X-ORIGINAL-URL:https://gist.edu.in/gist/event/a-two-day-workshop-on-java-programming/
X-WR-CALDESC:A Two Day Workshop on Java Programming
BEGIN:VEVENT
DTSTART:
DTEND:
SUMMARY:A Two Day Workshop on Java Programming
DESCRIPTION:A Two Day Workshop on Java Programming
LOCATION:
END:VEVENT
END:VCALENDAR
