BEGIN:VCALENDAR
VERSION:2.0
PRODID:-//Geethanjali
CALSCALE:GREGORIAN
METHOD:PUBLISH
X-WR-CALNAME:Geethanjali
X-ORIGINAL-URL:https://gist.edu.in/gist/event/3-day-workshop-on-google-android-developer-fundamental-workshop-phase-i/
X-WR-CALDESC:3 Day Workshop  on Google Android Developer Fundamental Workshop (Phase-I)
BEGIN:VEVENT
DTSTART:
DTEND:
SUMMARY:3 Day Workshop  on Google Android Developer Fundamental Workshop (Phase-I)
DESCRIPTION:A Three Day Workshop  on Google Android Developer Fundamentals (Phase-I) 
LOCATION:
END:VEVENT
END:VCALENDAR
