BEGIN:VCALENDAR
VERSION:2.0
PRODID:-//Geethanjali
CALSCALE:GREGORIAN
METHOD:PUBLISH
X-WR-CALNAME:Geethanjali
X-ORIGINAL-URL:https://gist.edu.in/gist/event/gist-students-shine-in-qcfi/
X-WR-CALDESC:GIST STUDENTS SHINE IN QCFI
BEGIN:VEVENT
DTSTART:
DTEND:
SUMMARY:GIST STUDENTS SHINE IN QCFI
DESCRIPTION:GIST Students Shines in Quality Circles Forum of India 
LOCATION:
END:VEVENT
END:VCALENDAR
