BEGIN:VCALENDAR
VERSION:2.0
PRODID:-//Geethanjali
CALSCALE:GREGORIAN
METHOD:PUBLISH
X-WR-CALNAME:Geethanjali
X-ORIGINAL-URL:https://gist.edu.in/gist/event/industrial-visit-to-narl-gadanki-is-scheduled-on-13-10-2017/
X-WR-CALDESC:INDUSTRIAL VISIT TO NARL ,GADANKI IS SCHEDULED ON 13-10-2017
BEGIN:VEVENT
DTSTART:
DTEND:
SUMMARY:INDUSTRIAL VISIT TO NARL ,GADANKI IS SCHEDULED ON 13-10-2017
DESCRIPTION:INDUSTRIAL VISIT TO NARL (NATIONAL ATMOSPHERIC RESEARCH LABORATORY), GADANKI IS SCHEDULED ON 13-10-2017 FOR IV ECE STUDENTS                        

LOCATION:
END:VEVENT
END:VCALENDAR
