BEGIN:VCALENDAR
VERSION:2.0
PRODID:-//Geethanjali
CALSCALE:GREGORIAN
METHOD:PUBLISH
X-WR-CALNAME:Geethanjali
X-ORIGINAL-URL:https://gist.edu.in/gist/event/freshers-party/
X-WR-CALDESC:Fresher&#8217;s Party
BEGIN:VEVENT
DTSTART:
DTEND:
SUMMARY:Fresher&#8217;s Party
DESCRIPTION:CSE Fresher's Day Celebrations-2017 @ GIST
LOCATION:
END:VEVENT
END:VCALENDAR
