BEGIN:VCALENDAR
VERSION:2.0
PRODID:-//Geethanjali
CALSCALE:GREGORIAN
METHOD:PUBLISH
X-WR-CALNAME:Geethanjali
X-ORIGINAL-URL:https://gist.edu.in/gist/event/two-day-workshop-on-pcb-design-at-gist-2/
X-WR-CALDESC:Two-Day Workshop on PCB Design at GIST
BEGIN:VEVENT
DTSTART:
DTEND:
SUMMARY:Two-Day Workshop on PCB Design at GIST
DESCRIPTION:A Two-Day Workshop on PCB Design at GIST
LOCATION:
END:VEVENT
END:VCALENDAR
