BEGIN:VCALENDAR
VERSION:2.0
PRODID:-//Geethanjali
CALSCALE:GREGORIAN
METHOD:PUBLISH
X-WR-CALNAME:Geethanjali
X-ORIGINAL-URL:https://gist.edu.in/gist/event/7656/
X-WR-CALDESC:INTERNATIONAL CONFERENCE ON INTERNET OF THINGS FOR FUTURE SMART CITIES
BEGIN:VEVENT
DTSTART:
DTEND:
SUMMARY:INTERNATIONAL CONFERENCE ON INTERNET OF THINGS FOR FUTURE SMART CITIES
DESCRIPTION:ICIOTSC-17
LOCATION:
END:VEVENT
END:VCALENDAR
