BEGIN:VCALENDAR
VERSION:2.0
PRODID:-//Geethanjali
CALSCALE:GREGORIAN
METHOD:PUBLISH
X-WR-CALNAME:Geethanjali
X-ORIGINAL-URL:https://gist.edu.in/gist/event/7623/
X-WR-CALDESC:Industry Institute Interaction for III year B.Tech Students on 17-July-2017
BEGIN:VEVENT
DTSTART:
DTEND:
SUMMARY:Industry Institute Interaction for III year B.Tech Students on 17-July-2017
DESCRIPTION:Orientation Day Held for III B.Tech Students
LOCATION:
END:VEVENT
END:VCALENDAR
