BEGIN:VCALENDAR
VERSION:2.0
PRODID:-//Geethanjali
CALSCALE:GREGORIAN
METHOD:PUBLISH
X-WR-CALNAME:Geethanjali
X-ORIGINAL-URL:https://gist.edu.in/gist/event/fdp-on-machine-learning-and-big-data-analytics/
X-WR-CALDESC:FDP on Machine learning and Big Data Analytics
BEGIN:VEVENT
DTSTART:
DTEND:
SUMMARY:FDP on Machine learning and Big Data Analytics
DESCRIPTION:FDP on Machine Learning and Big Data Analytics
LOCATION:
END:VEVENT
END:VCALENDAR
