BEGIN:VCALENDAR
VERSION:2.0
PRODID:-//Geethanjali
CALSCALE:GREGORIAN
METHOD:PUBLISH
X-WR-CALNAME:Geethanjali
X-ORIGINAL-URL:https://gist.edu.in/gist/event/qcfi-industrial-training/
X-WR-CALDESC:QCFI Industrial Training
BEGIN:VEVENT
DTSTART:
DTEND:
SUMMARY:QCFI Industrial Training
DESCRIPTION:QCFI Industrial Training held on 6-6-17 @ gist
LOCATION:
END:VEVENT
END:VCALENDAR
