BEGIN:VCALENDAR
VERSION:2.0
PRODID:-//Geethanjali
CALSCALE:GREGORIAN
METHOD:PUBLISH
X-WR-CALNAME:Geethanjali
X-ORIGINAL-URL:https://gist.edu.in/gist/event/iciotsc-17/
X-WR-CALDESC:INTERNATIONAL CONFERENCE ON INNOVATIONS IN INTERNET OF THINGS FOR SMART CITIES
BEGIN:VEVENT
DTSTART:
DTEND:
SUMMARY:INTERNATIONAL CONFERENCE ON INNOVATIONS IN INTERNET OF THINGS FOR SMART CITIES
DESCRIPTION:INTERNATIONAL CONFERENCE ON INNOVATIONS IN INTERNET OF THINGS FOR SMART CITIES
LOCATION:
END:VEVENT
END:VCALENDAR
