BEGIN:VCALENDAR
VERSION:2.0
PRODID:-//Geethanjali
CALSCALE:GREGORIAN
METHOD:PUBLISH
X-WR-CALNAME:Geethanjali
X-ORIGINAL-URL:https://gist.edu.in/gist/event/guest-lecture-on-matlab-applications-and-simulation/
X-WR-CALDESC:Guest Lecture on MATLAB Applications and Simulation
BEGIN:VEVENT
DTSTART:
DTEND:
SUMMARY:Guest Lecture on MATLAB Applications and Simulation
DESCRIPTION:MATLAB Applications and Simulation
LOCATION:
END:VEVENT
END:VCALENDAR
