BEGIN:VCALENDAR
VERSION:2.0
PRODID:-//Geethanjali
CALSCALE:GREGORIAN
METHOD:PUBLISH
X-WR-CALNAME:Geethanjali
X-ORIGINAL-URL:https://gist.edu.in/gist/event/7367/
X-WR-CALDESC:Guest Lecture on MATLAB Fundamentals and Applications
BEGIN:VEVENT
DTSTART:
DTEND:
SUMMARY:Guest Lecture on MATLAB Fundamentals and Applications
DESCRIPTION:MATLAB Fundamentals and Applications
LOCATION:
END:VEVENT
END:VCALENDAR
