BEGIN:VCALENDAR
VERSION:2.0
PRODID:-//Geethanjali
CALSCALE:GREGORIAN
METHOD:PUBLISH
X-WR-CALNAME:Geethanjali
X-ORIGINAL-URL:https://gist.edu.in/gist/event/two-day-national-level-tech-fest-at-gist/
X-WR-CALDESC:Two-Day National Level Tech Fest at GIST
BEGIN:VEVENT
DTSTART:
DTEND:
SUMMARY:Two-Day National Level Tech Fest at GIST
DESCRIPTION:GISTECHFEST-2K17
LOCATION:
END:VEVENT
END:VCALENDAR
