BEGIN:VCALENDAR
VERSION:2.0
PRODID:-//Geethanjali
CALSCALE:GREGORIAN
METHOD:PUBLISH
X-WR-CALNAME:Geethanjali
X-ORIGINAL-URL:https://gist.edu.in/gist/event/digidhan-mela/
X-WR-CALDESC:DIGIDHAN MELA
BEGIN:VEVENT
DTSTART:
DTEND:
SUMMARY:DIGIDHAN MELA
DESCRIPTION:<font color='blue'><strong>Digi-Dhan</strong><br/>
<caption>Go Cashless.Go Digital</caption></font>
LOCATION:
END:VEVENT
END:VCALENDAR
