BEGIN:VCALENDAR
VERSION:2.0
PRODID:-//Geethanjali
CALSCALE:GREGORIAN
METHOD:PUBLISH
X-WR-CALNAME:Geethanjali
X-ORIGINAL-URL:https://gist.edu.in/gist/event/gistechfest-2k17-2/
X-WR-CALDESC:GISTECHFEST 2K17
BEGIN:VEVENT
DTSTART:
DTEND:
SUMMARY:GISTECHFEST 2K17
DESCRIPTION:GISTECHFEST-2K17
LOCATION:
END:VEVENT
END:VCALENDAR
