BEGIN:VCALENDAR
VERSION:2.0
PRODID:-//Geethanjali
CALSCALE:GREGORIAN
METHOD:PUBLISH
X-WR-CALNAME:Geethanjali
X-ORIGINAL-URL:https://gist.edu.in/gist/event/latest-trends-in-antennas-applications/
X-WR-CALDESC:Latest Trends in Antennas &#038; Applications
BEGIN:VEVENT
DTSTART:
DTEND:
SUMMARY:Latest Trends in Antennas &#038; Applications
DESCRIPTION:Latest Trends in Antennas & Applications
LOCATION:
END:VEVENT
END:VCALENDAR
