BEGIN:VCALENDAR
VERSION:2.0
PRODID:-//Geethanjali
CALSCALE:GREGORIAN
METHOD:PUBLISH
X-WR-CALNAME:Geethanjali
X-ORIGINAL-URL:https://gist.edu.in/gist/event/7018/
X-WR-CALDESC:Career Opportunities for Engineering Aspirants
BEGIN:VEVENT
DTSTART:
DTEND:
SUMMARY:Career Opportunities for Engineering Aspirants
DESCRIPTION:Career Opportunities for Engineering Aspirants
LOCATION:
END:VEVENT
END:VCALENDAR
